BEGIN:VCALENDAR
VERSION:2.0
PRODID:-//ChamberMaster//Event Calendar 2.0//EN
METHOD:PUBLISH
X-PUBLISHED-TTL:P3D
REFRESH-INTERVAL:P3D
CALSCALE:GREGORIAN
BEGIN:VEVENT
DTSTART:20130625T230000Z
DTEND:20130626T000000Z
X-MICROSOFT-CDO-ALLDAYEVENT:FALSE
SUMMARY:cpap support group
DESCRIPTION:Come join us for our free cpap support group meeting Tuesday June 25th at 6pm. There will be free food and drinks. We also give away prizes. Anyone is welcome.
X-ALT-DESC;FMTTYPE=text/html:Come join us for our free cpap support group meeting Tuesday June 25th at 6pm. There will be free food and drinks. We also give away prizes. Anyone is welcome.
LOCATION:7420 guthrie dr suite 101 southaven ms 38671 reggie white sleep center
UID:e.512.1049
SEQUENCE:3
DTSTAMP:20260422T065559Z
URL:http://southavenchamber.chambermaster.com/events/details/cpap-support-group-06-25-2013-1049
END:VEVENT

END:VCALENDAR
