BEGIN:VCALENDAR
VERSION:2.0
PRODID:-//ChamberMaster//Event Calendar 2.0//EN
METHOD:PUBLISH
X-PUBLISHED-TTL:P3D
REFRESH-INTERVAL:P3D
CALSCALE:GREGORIAN
BEGIN:VEVENT
DTSTART;VALUE=DATE:20130810
DTEND;VALUE=DATE:20130818
TRANSP:TRANSPARENT
X-MICROSOFT-CDO-ALLDAYEVENT:TRUE
SUMMARY:Elvis Week 2013
DESCRIPTION:Elvis Week 2013 will be Saturday\, August 10 - Saturday\, August 17\, at Graceland in Memphis. We are excited to be bringing back the Elvis Week Main Stage at Graceland this year so fans can enjoy their Elvis Week days on the Graceland campus with us. Visiting ElvisWeek.com for featured celebrity guests\, schedule of events\, and more.
X-ALT-DESC;FMTTYPE=text/html:Elvis Week 2013 will be Saturday\, August 10 - Saturday\, August 17\, at Graceland in Memphis. We are excited to be bringing back the Elvis Week Main Stage at Graceland this year so fans can enjoy their Elvis Week days on the Graceland campus with us. Visiting <strong>ElvisWeek.com</strong> for featured celebrity guests\, schedule of events\, and more. 
LOCATION:Graceland at 3717 Elvis Presley Blvd. Memphis\,TN 38116.
UID:e.512.1051
SEQUENCE:3
DTSTAMP:20260423T234431Z
URL:http://southavenchamber.chambermaster.com/events/details/elvis-week-2013-08-10-2013-1051
END:VEVENT

END:VCALENDAR
